BEGIN:VCALENDAR
VERSION:2.0
PRODID:-//The Cabin - ECPv6.15.17.1//NONSGML v1.0//EN
CALSCALE:GREGORIAN
METHOD:PUBLISH
X-ORIGINAL-URL:https://www.rk-cabin.com
X-WR-CALDESC:Events for The Cabin
REFRESH-INTERVAL;VALUE=DURATION:PT1H
X-Robots-Tag:noindex
X-PUBLISHED-TTL:PT1H
BEGIN:VTIMEZONE
TZID:America/Denver
BEGIN:DAYLIGHT
TZOFFSETFROM:-0700
TZOFFSETTO:-0600
TZNAME:MDT
DTSTART:20210314T090000
END:DAYLIGHT
BEGIN:STANDARD
TZOFFSETFROM:-0600
TZOFFSETTO:-0700
TZNAME:MST
DTSTART:20211107T080000
END:STANDARD
BEGIN:DAYLIGHT
TZOFFSETFROM:-0700
TZOFFSETTO:-0600
TZNAME:MDT
DTSTART:20220313T090000
END:DAYLIGHT
BEGIN:STANDARD
TZOFFSETFROM:-0600
TZOFFSETTO:-0700
TZNAME:MST
DTSTART:20221106T080000
END:STANDARD
BEGIN:DAYLIGHT
TZOFFSETFROM:-0700
TZOFFSETTO:-0600
TZNAME:MDT
DTSTART:20230312T090000
END:DAYLIGHT
BEGIN:STANDARD
TZOFFSETFROM:-0600
TZOFFSETTO:-0700
TZNAME:MST
DTSTART:20231105T080000
END:STANDARD
BEGIN:DAYLIGHT
TZOFFSETFROM:-0700
TZOFFSETTO:-0600
TZNAME:MDT
DTSTART:20240310T090000
END:DAYLIGHT
BEGIN:STANDARD
TZOFFSETFROM:-0600
TZOFFSETTO:-0700
TZNAME:MST
DTSTART:20241103T080000
END:STANDARD
END:VTIMEZONE
BEGIN:VEVENT
DTSTART;VALUE=DATE:20231109
DTEND;VALUE=DATE:20231116
DTSTAMP:20260422T131441
CREATED:20230627T054459Z
LAST-MODIFIED:20230627T054459Z
UID:1408-1699545600-1700150399@www.rk-cabin.com
SUMMARY:2023 White Tail Festival
DESCRIPTION:Gathering to chase tail around the border lands.
URL:https://www.rk-cabin.com/event/2023-white-tail-festival/
ATTACH;FMTTYPE=image/jpeg:https://www.rk-cabin.com/wp-content/uploads/2023/06/fawn-597528_960_720.jpg
END:VEVENT
BEGIN:VEVENT
DTSTART;VALUE=DATE:20221103
DTEND;VALUE=DATE:20221112
DTSTAMP:20260422T131441
CREATED:20220819T061100Z
LAST-MODIFIED:20220819T061100Z
UID:1332-1667491200-1668268799@www.rk-cabin.com
SUMMARY:Peltier/Post Wedding
DESCRIPTION:The happy couple finally decided to tie the knot!
URL:https://www.rk-cabin.com/event/peltier-post-wedding/
LOCATION:The Honeymoon Suite
ATTACH;FMTTYPE=image/jpeg:https://www.rk-cabin.com/wp-content/uploads/2022/08/Brokeback-Mountain-1-520x347-1.jpg
END:VEVENT
BEGIN:VEVENT
DTSTART;TZID=America/Denver:20220821T093000
DTEND;TZID=America/Denver:20220821T110000
DTSTAMP:20260422T131441
CREATED:20220821T052459Z
LAST-MODIFIED:20220821T052459Z
UID:1387-1661074200-1661079600@www.rk-cabin.com
SUMMARY:Dusty's Birthday
DESCRIPTION:
URL:https://www.rk-cabin.com/event/dustys-birthday/
END:VEVENT
END:VCALENDAR